BEGIN:VCALENDAR
VERSION:2.0
PRODID:-//wp-events-plugin.com//7.0.5//EN
TZID:America/Chicago
X-WR-TIMEZONE:America/Chicago
BEGIN:VEVENT
UID:1-809@brownsville-pub.com
DTSTART;TZID=America/Chicago:20261118T173000
DTEND;TZID=America/Chicago:20261118T180000
DTSTAMP:20260121T211757Z
URL:https://www.brownsville-pub.com/events/pubcap-meeting-4-2026-01-21-202
 6-02-18-2026-03-18-2026-04-15-2026-05-20-2026-06-17-2026-07-15-2026-08-19-
 2026-09-16-2026-10-21-2026-11-18/
SUMMARY:PUBCAP Meeting
DESCRIPTION:
CATEGORIES:PUBCAP Meetings
LOCATION:BPUB Annex Building\, 1425 Robinhood Dr.\, Brownsville\, Texas\, 7
 8520\, United States
X-APPLE-STRUCTURED-LOCATION;VALUE=URI;X-ADDRESS=1425 Robinhood Dr.\, Browns
 ville\, Texas\, 78520\, United States;X-APPLE-RADIUS=100;X-TITLE=BPUB Anne
 x Building:geo:0,0
END:VEVENT
BEGIN:VTIMEZONE
TZID:America/Chicago
X-LIC-LOCATION:America/Chicago
BEGIN:STANDARD
DTSTART:20261101T010000
TZOFFSETFROM:-0500
TZOFFSETTO:-0600
TZNAME:CST
END:STANDARD
END:VTIMEZONE
END:VCALENDAR