BEGIN:VCALENDAR
VERSION:2.0
PRODID:-//wp-events-plugin.com//7.0.5//EN
TZID:America/Chicago
X-WR-TIMEZONE:America/Chicago
BEGIN:VEVENT
UID:1-498@brownsville-pub.com
DTSTART;TZID=America/Chicago:20231202T170000
DTEND;TZID=America/Chicago:20231202T170000
DTSTAMP:20230914T155607Z
URL:https://www.brownsville-pub.com/events/brownsville-christmas-parade/
SUMMARY:Brownsville Christmas Parade
DESCRIPTION:
CATEGORIES:Event
END:VEVENT
BEGIN:VTIMEZONE
TZID:America/Chicago
X-LIC-LOCATION:America/Chicago
BEGIN:STANDARD
DTSTART:20231105T010000
TZOFFSETFROM:-0500
TZOFFSETTO:-0600
TZNAME:CST
END:STANDARD
END:VTIMEZONE
END:VCALENDAR