BEGIN:VCALENDAR
VERSION:2.0
PRODID:-//wp-events-plugin.com//7.0.5//EN
TZID:America/Chicago
X-WR-TIMEZONE:America/Chicago
BEGIN:VEVENT
UID:1-388@brownsville-pub.com
DTSTART;TZID=America/Chicago:20230109T173000
DTEND;TZID=America/Chicago:20230109T183000
DTSTAMP:20230215T203438Z
URL:https://www.brownsville-pub.com/events/board-of-directors-meeting-2-20
 23-01-09/
SUMMARY:Board of Directors Meeting
DESCRIPTION:
CATEGORIES:Board Meetings
LOCATION:BPUB Annex Building\, 1425 Robinhood Dr.\, Brownsville\, Texas\, 7
 8520\, United States
X-APPLE-STRUCTURED-LOCATION;VALUE=URI;X-ADDRESS=1425 Robinhood Dr.\, Browns
 ville\, Texas\, 78520\, United States;X-APPLE-RADIUS=100;X-TITLE=BPUB Anne
 x Building:geo:0,0
END:VEVENT
BEGIN:VTIMEZONE
TZID:America/Chicago
X-LIC-LOCATION:America/Chicago
BEGIN:STANDARD
DTSTART:20221106T010000
TZOFFSETFROM:-0500
TZOFFSETTO:-0600
TZNAME:CST
END:STANDARD
END:VTIMEZONE
END:VCALENDAR